BEGIN:VCALENDAR
VERSION:2.0
PRODID:-//DAS WOHNHAUS gGmbH - ECPv6.15.17.1//NONSGML v1.0//EN
CALSCALE:GREGORIAN
METHOD:PUBLISH
X-WR-CALNAME:DAS WOHNHAUS gGmbH
X-ORIGINAL-URL:https://www.daswohnhausostfildern.de
X-WR-CALDESC:Veranstaltungen für DAS WOHNHAUS gGmbH
REFRESH-INTERVAL;VALUE=DURATION:PT1H
X-Robots-Tag:noindex
X-PUBLISHED-TTL:PT1H
BEGIN:VTIMEZONE
TZID:Europe/Berlin
BEGIN:DAYLIGHT
TZOFFSETFROM:+0100
TZOFFSETTO:+0200
TZNAME:CEST
DTSTART:20250330T010000
END:DAYLIGHT
BEGIN:STANDARD
TZOFFSETFROM:+0200
TZOFFSETTO:+0100
TZNAME:CET
DTSTART:20251026T010000
END:STANDARD
BEGIN:DAYLIGHT
TZOFFSETFROM:+0100
TZOFFSETTO:+0200
TZNAME:CEST
DTSTART:20260329T010000
END:DAYLIGHT
BEGIN:STANDARD
TZOFFSETFROM:+0200
TZOFFSETTO:+0100
TZNAME:CET
DTSTART:20261025T010000
END:STANDARD
BEGIN:DAYLIGHT
TZOFFSETFROM:+0100
TZOFFSETTO:+0200
TZNAME:CEST
DTSTART:20270328T010000
END:DAYLIGHT
BEGIN:STANDARD
TZOFFSETFROM:+0200
TZOFFSETTO:+0100
TZNAME:CET
DTSTART:20271031T010000
END:STANDARD
END:VTIMEZONE
BEGIN:VEVENT
DTSTART;TZID=Europe/Berlin:20260426T140000
DTEND;TZID=Europe/Berlin:20260426T163000
DTSTAMP:20260424T143936
CREATED:20260320T105706Z
LAST-MODIFIED:20260320T105706Z
UID:3483-1777212000-1777221000@www.daswohnhausostfildern.de
SUMMARY:Radfahren
DESCRIPTION:VfK-Mitglieder
URL:https://www.daswohnhausostfildern.de/termin/radfahren-3/
END:VEVENT
BEGIN:VEVENT
DTSTART;TZID=Europe/Berlin:20260428T170000
DTEND;TZID=Europe/Berlin:20260428T180000
DTSTAMP:20260424T143936
CREATED:20260330T082737Z
LAST-MODIFIED:20260330T082737Z
UID:3518-1777395600-1777399200@www.daswohnhausostfildern.de
SUMMARY:Singen Inklusiv
DESCRIPTION:Angebot für Bewohner:innen
URL:https://www.daswohnhausostfildern.de/termin/singen-inklusiv-2/
END:VEVENT
BEGIN:VEVENT
DTSTART;TZID=Europe/Berlin:20260429T170000
DTEND;TZID=Europe/Berlin:20260429T190000
DTSTAMP:20260424T143936
CREATED:20260122T105631Z
LAST-MODIFIED:20260122T105631Z
UID:3293-1777482000-1777489200@www.daswohnhausostfildern.de
SUMMARY:Kochgruppe
DESCRIPTION:Kochgruppe – Angebot für Bewohner:innen
URL:https://www.daswohnhausostfildern.de/termin/kochgruppe-6/
END:VEVENT
END:VCALENDAR